BEGIN:VCALENDAR
VERSION:2.0
PRODID:-//Mark Bertin, M.D. — Developmental Pediatrician - ECPv6.15.20//NONSGML v1.0//EN
CALSCALE:GREGORIAN
METHOD:PUBLISH
X-ORIGINAL-URL:https://developmentaldoctor.com
X-WR-CALDESC:Events for Mark Bertin, M.D. — Developmental Pediatrician
REFRESH-INTERVAL;VALUE=DURATION:PT1H
X-Robots-Tag:noindex
X-PUBLISHED-TTL:PT1H
BEGIN:VTIMEZONE
TZID:America/New_York
BEGIN:DAYLIGHT
TZOFFSETFROM:-0500
TZOFFSETTO:-0400
TZNAME:EDT
DTSTART:20250309T070000
END:DAYLIGHT
BEGIN:STANDARD
TZOFFSETFROM:-0400
TZOFFSETTO:-0500
TZNAME:EST
DTSTART:20251102T060000
END:STANDARD
BEGIN:DAYLIGHT
TZOFFSETFROM:-0500
TZOFFSETTO:-0400
TZNAME:EDT
DTSTART:20260308T070000
END:DAYLIGHT
BEGIN:STANDARD
TZOFFSETFROM:-0400
TZOFFSETTO:-0500
TZNAME:EST
DTSTART:20261101T060000
END:STANDARD
BEGIN:DAYLIGHT
TZOFFSETFROM:-0500
TZOFFSETTO:-0400
TZNAME:EDT
DTSTART:20270314T070000
END:DAYLIGHT
BEGIN:STANDARD
TZOFFSETFROM:-0400
TZOFFSETTO:-0500
TZNAME:EST
DTSTART:20271107T060000
END:STANDARD
END:VTIMEZONE
BEGIN:VTIMEZONE
TZID:UTC
BEGIN:STANDARD
TZOFFSETFROM:+0000
TZOFFSETTO:+0000
TZNAME:UTC
DTSTART:20250101T000000
END:STANDARD
END:VTIMEZONE
BEGIN:VEVENT
DTSTART;TZID=America/New_York:20260522T113000
DTEND;TZID=America/New_York:20260522T124500
DTSTAMP:20260419T154721
CREATED:20251210T181436Z
LAST-MODIFIED:20260416T160718Z
UID:10078-1779449400-1779453900@developmentaldoctor.com
SUMMARY:Mindfulness Meditation (Hosted by The Bedford Post Inn)
DESCRIPTION:Explore practical and accessible meditation and contemplative practices that promote resilience\, joy and emotional regulation in everyday life.\n\nThis sign-up is for class card use.\n\n$25 drop in can be purchased here:\n\nhttps://clients.mindbodyonline.com/classic/ws?studioid=11124&stype=-8&sView=day&sLoc=0&sTrn=100000221&date=05/22/26
URL:https://developmentaldoctor.com/event/meditation-practice-self-care-and-gratitude-hosted-by-the-bedford-post-inn/
LOCATION:Bedford Post Inn\, 954 Old Post Rd\, Bedford\, NY\, 10506
END:VEVENT
BEGIN:VEVENT
DTSTART;TZID=America/New_York:20260601T193000
DTEND;TZID=America/New_York:20260601T203000
DTSTAMP:20260419T154721
CREATED:20260325T121530Z
LAST-MODIFIED:20260325T121617Z
UID:10132-1780342200-1780345800@developmentaldoctor.com
SUMMARY:Title: Foundations of Emotion:  Practical Tools for Identifying and Managing Our Emotional World (Hosted by Intent)
DESCRIPTION:Coming Soon
URL:https://developmentaldoctor.com/event/title-foundations-of-emotion-practical-tools-for-identifying-and-managing-our-emotional-world-hosted-by-intent/
END:VEVENT
BEGIN:VEVENT
DTSTART;VALUE=DATE:20261203
DTEND;VALUE=DATE:20261206
DTSTAMP:20260419T154721
CREATED:20250423T133659Z
LAST-MODIFIED:20260416T161414Z
UID:9624-1796256000-1796515199@developmentaldoctor.com
SUMMARY:International Conference on ADHD Baltimore\, Maryland | December 3–5\, 2026
DESCRIPTION:Details coming soon!
URL:https://developmentaldoctor.com/event/international-conference-on-adhd-kansas-city-missouri-november-13-15-2025/
LOCATION:International Conference on ADHD – CHADD\, ADDA and ACO
ORGANIZER;CN="International CHADD Conference":MAILTO:info@add.org
END:VEVENT
END:VCALENDAR