BEGIN:VCALENDAR
VERSION:2.0
PRODID:-//Mark Bertin, M.D. — Developmental Pediatrician - ECPv6.15.20//NONSGML v1.0//EN
CALSCALE:GREGORIAN
METHOD:PUBLISH
X-WR-CALNAME:Mark Bertin, M.D. — Developmental Pediatrician
X-ORIGINAL-URL:https://developmentaldoctor.com
X-WR-CALDESC:Events for Mark Bertin, M.D. — Developmental Pediatrician
REFRESH-INTERVAL;VALUE=DURATION:PT1H
X-Robots-Tag:noindex
X-PUBLISHED-TTL:PT1H
BEGIN:VTIMEZONE
TZID:America/New_York
BEGIN:DAYLIGHT
TZOFFSETFROM:-0500
TZOFFSETTO:-0400
TZNAME:EDT
DTSTART:20250309T070000
END:DAYLIGHT
BEGIN:STANDARD
TZOFFSETFROM:-0400
TZOFFSETTO:-0500
TZNAME:EST
DTSTART:20251102T060000
END:STANDARD
BEGIN:DAYLIGHT
TZOFFSETFROM:-0500
TZOFFSETTO:-0400
TZNAME:EDT
DTSTART:20260308T070000
END:DAYLIGHT
BEGIN:STANDARD
TZOFFSETFROM:-0400
TZOFFSETTO:-0500
TZNAME:EST
DTSTART:20261101T060000
END:STANDARD
BEGIN:DAYLIGHT
TZOFFSETFROM:-0500
TZOFFSETTO:-0400
TZNAME:EDT
DTSTART:20270314T070000
END:DAYLIGHT
BEGIN:STANDARD
TZOFFSETFROM:-0400
TZOFFSETTO:-0500
TZNAME:EST
DTSTART:20271107T060000
END:STANDARD
END:VTIMEZONE
BEGIN:VEVENT
DTSTART;VALUE=DATE:20260323
DTEND;VALUE=DATE:20260324
DTSTAMP:20260423T115115
CREATED:20251205T171136Z
LAST-MODIFIED:20260228T153605Z
UID:10065-1774224000-1774310399@developmentaldoctor.com
SUMMARY:Conference on Self-regulation (Hosted by Massachusetts Partnerships for Youth)
DESCRIPTION:This conference provides participants with an overview of emotion and emotional regulation\, including how various disorders shape emotional experience. Join Developmental Pediatrician Dr. Mark Bertin and Clinical Psychologists Dr. Roberto Olivardia and Dr. Chris Willard for an in-depth exploration of emotion and emotional regulation. Participants will learn to identify disorder-specific emotional patterns\, understand how these patterns influence students’ daily functioning\, and learn practical ways to incorporate mindfulness in the classroom to support self-regulation.
URL:https://developmentaldoctor.com/event/conference-on-self-regulation-hosted-by-massachusetts-partnerships-for-youth/
END:VEVENT
END:VCALENDAR